BEGIN:VCALENDAR
VERSION:2.0
PRODID:-//CTA Association - ECPv6.15.20//NONSGML v1.0//EN
CALSCALE:GREGORIAN
METHOD:PUBLISH
X-ORIGINAL-URL:https://cta-association.com
X-WR-CALDESC:Events for CTA Association
REFRESH-INTERVAL;VALUE=DURATION:PT1H
X-Robots-Tag:noindex
X-PUBLISHED-TTL:PT1H
BEGIN:VTIMEZONE
TZID:Europe/Zurich
BEGIN:DAYLIGHT
TZOFFSETFROM:+0100
TZOFFSETTO:+0200
TZNAME:CEST
DTSTART:20240331T010000
END:DAYLIGHT
BEGIN:STANDARD
TZOFFSETFROM:+0200
TZOFFSETTO:+0100
TZNAME:CET
DTSTART:20241027T010000
END:STANDARD
BEGIN:DAYLIGHT
TZOFFSETFROM:+0100
TZOFFSETTO:+0200
TZNAME:CEST
DTSTART:20250330T010000
END:DAYLIGHT
BEGIN:STANDARD
TZOFFSETFROM:+0200
TZOFFSETTO:+0100
TZNAME:CET
DTSTART:20251026T010000
END:STANDARD
BEGIN:DAYLIGHT
TZOFFSETFROM:+0100
TZOFFSETTO:+0200
TZNAME:CEST
DTSTART:20260329T010000
END:DAYLIGHT
BEGIN:STANDARD
TZOFFSETFROM:+0200
TZOFFSETTO:+0100
TZNAME:CET
DTSTART:20261025T010000
END:STANDARD
END:VTIMEZONE
BEGIN:VEVENT
DTSTART;TZID=Europe/Zurich:20251118T183000
DTEND;TZID=Europe/Zurich:20251118T213000
DTSTAMP:20260420T192731
CREATED:20251023T075737Z
LAST-MODIFIED:20251103T153020Z
UID:1818-1763490600-1763501400@cta-association.com
SUMMARY:CTA Zug Conference 2025
DESCRIPTION:REGISTER HERE\n			\n			\n				\n				\n				\n				\n			\n				\n				\n				\n				\n				\n				\n				\n				\n				\n				\n				Organized by Commodity Trading Alumni (CTA)\, this event brings together professionals\, entrepreneurs\, and changemakers to explore how women are shaping the future of sustainable energy. Through interactive panel discussions and networking\, we’ll spotlight innovative approaches to leadership\, climate finance\, and the energy transition. \nProgram: \n6:30 PM – Welcome & Networking6:45 PM – Opening Remarks by CTA7:00 PM – Value Creed: Study Case Presentation7:15 PM – Panel: Women Leading the Energy Transition8:15PM – Interactive Q&A8:30 PM – Networking & Apéro9:30 PM – Closing
URL:https://cta-association.com/event/cta-zug-conference-2025/
LOCATION:CV Labs\, Zug\, Dammstrasse 16\, Zug\, 6300\, Switzerland
CATEGORIES:CONFERENCES
END:VEVENT
END:VCALENDAR