BEGIN:VCALENDAR
VERSION:2.0
PRODID:-//CTA Association - ECPv6.15.20//NONSGML v1.0//EN
CALSCALE:GREGORIAN
METHOD:PUBLISH
X-ORIGINAL-URL:https://cta-association.com
X-WR-CALDESC:Events for CTA Association
REFRESH-INTERVAL;VALUE=DURATION:PT1H
X-Robots-Tag:noindex
X-PUBLISHED-TTL:PT1H
BEGIN:VTIMEZONE
TZID:Europe/Zurich
BEGIN:DAYLIGHT
TZOFFSETFROM:+0100
TZOFFSETTO:+0200
TZNAME:CEST
DTSTART:20240331T010000
END:DAYLIGHT
BEGIN:STANDARD
TZOFFSETFROM:+0200
TZOFFSETTO:+0100
TZNAME:CET
DTSTART:20241027T010000
END:STANDARD
BEGIN:DAYLIGHT
TZOFFSETFROM:+0100
TZOFFSETTO:+0200
TZNAME:CEST
DTSTART:20250330T010000
END:DAYLIGHT
BEGIN:STANDARD
TZOFFSETFROM:+0200
TZOFFSETTO:+0100
TZNAME:CET
DTSTART:20251026T010000
END:STANDARD
BEGIN:DAYLIGHT
TZOFFSETFROM:+0100
TZOFFSETTO:+0200
TZNAME:CEST
DTSTART:20260329T010000
END:DAYLIGHT
BEGIN:STANDARD
TZOFFSETFROM:+0200
TZOFFSETTO:+0100
TZNAME:CET
DTSTART:20261025T010000
END:STANDARD
END:VTIMEZONE
BEGIN:VEVENT
DTSTART;TZID=Europe/Zurich:20251106T074500
DTEND;TZID=Europe/Zurich:20251106T190000
DTSTAMP:20260420T191849
CREATED:20251002T134458Z
LAST-MODIFIED:20251002T135016Z
UID:1790-1762415100-1762455600@cta-association.com
SUMMARY:TFG Geneva 2025
DESCRIPTION:register here\n			\n			\n				\n				\n				\n				\n			\n				\n				\n				\n				\n				\n				\n				\n				\n				\n				\n				CTA Association is proud to be an Association Partner of the TFG Geneva taking place in Geneva on 6th November 2025 and will focus on the challenges and opportunities within Trade & Commodities. \nKey topics include: \n\nThe impact of trade tariffs\, geopolitics\, and other volatile externalities on the market\nThe ever-growing trade finance gap: How can SME/mid-size clients effectively access liquidity?\nThe importance of commodities to facilitate energy transition goals\nHow can the industry effectively decarbonise?\nContinued regulatory impact on trade finance banks
URL:https://cta-association.com/event/tfg-geneva-2025/
LOCATION:InterContinental Geneva\, Chem. du Petit-Saconnex 9\, Geneva\, GE\, 1209\, Switzerland
CATEGORIES:CONFERENCES
END:VEVENT
END:VCALENDAR