BEGIN:VCALENDAR
VERSION:2.0
PRODID:-//CTA Association - ECPv6.15.20//NONSGML v1.0//EN
CALSCALE:GREGORIAN
METHOD:PUBLISH
X-WR-CALNAME:CTA Association
X-ORIGINAL-URL:https://cta-association.com
X-WR-CALDESC:Events for CTA Association
REFRESH-INTERVAL;VALUE=DURATION:PT1H
X-Robots-Tag:noindex
X-PUBLISHED-TTL:PT1H
BEGIN:VTIMEZONE
TZID:Europe/Zurich
BEGIN:DAYLIGHT
TZOFFSETFROM:+0100
TZOFFSETTO:+0200
TZNAME:CEST
DTSTART:20240331T010000
END:DAYLIGHT
BEGIN:STANDARD
TZOFFSETFROM:+0200
TZOFFSETTO:+0100
TZNAME:CET
DTSTART:20241027T010000
END:STANDARD
BEGIN:DAYLIGHT
TZOFFSETFROM:+0100
TZOFFSETTO:+0200
TZNAME:CEST
DTSTART:20250330T010000
END:DAYLIGHT
BEGIN:STANDARD
TZOFFSETFROM:+0200
TZOFFSETTO:+0100
TZNAME:CET
DTSTART:20251026T010000
END:STANDARD
BEGIN:DAYLIGHT
TZOFFSETFROM:+0100
TZOFFSETTO:+0200
TZNAME:CEST
DTSTART:20260329T010000
END:DAYLIGHT
BEGIN:STANDARD
TZOFFSETFROM:+0200
TZOFFSETTO:+0100
TZNAME:CET
DTSTART:20261025T010000
END:STANDARD
END:VTIMEZONE
BEGIN:VEVENT
DTSTART;TZID=Europe/Zurich:20251009T080000
DTEND;TZID=Europe/Zurich:20251009T200000
DTSTAMP:20260420T191504
CREATED:20251002T130553Z
LAST-MODIFIED:20251002T130602Z
UID:1776-1759996800-1760040000@cta-association.com
SUMMARY:6th MTE Conference
DESCRIPTION:Register here\n			\n			\n				\n				\n				\n				\n			\n				\n				\n				\n				\n				\n				\n				\n				\n				\n				\n				CTA Association is proud to be an Institutional Partner of the 6th MTE Conference taking place in Geneva on 9th October 2025 and will focus on Decarbonising the Maritime Value Chain. \nThe MTE Conference is an annual B2B event designed to bring together the key stakeholders across the maritime and commodities value chain including cargo-owners\, commodity trading companies & multinational corporations\, ship-owners and operators\, ship-brokers\, government and regulatory bodies\, financial institutions and innovative technology solution providers\, to foster collaboration\, explore emerging trends\, share best practices\, and facilitate networking opportunities with a focus on reducing emissions and enhancing operational efficiency in shipping and maritime transportation. \nAlumni of the Master\, DAS and CAS in Commodity Trading can benefit from a 20% discount on entrance ticket.
URL:https://cta-association.com/event/6th-mte-conference/
LOCATION:Hotel President Wilson\, Quai Wilson 47\, Geneva\, GE\, 1211\, Switzerland
CATEGORIES:CONFERENCES
END:VEVENT
BEGIN:VEVENT
DTSTART;VALUE=DATE:20251029
DTEND;VALUE=DATE:20251030
DTSTAMP:20260420T191504
CREATED:20250407T181722Z
LAST-MODIFIED:20251028T112906Z
UID:1382-1761696000-1761782399@cta-association.com
SUMMARY:CTA Annual Conference 2025
DESCRIPTION:FULLY BOOKED\n			\n			\n				\n				\n				\n				\n			\n				\n				\n				\n				\n				\n				\n				\n				\n				\n				\n				\n			\n			\n				\n				\n				\n				\n			\n				\n				\n				\n				\n				\n				\n				\n				\n				\n				\n				\n			\n			\n				\n				\n				\n				\n			\n				\n				\n				\n				\n				\n				\n				\n				\n				\n				\n				Global trade is marked by uncertainty\, with geopolitical tensions\, economic shifts\, and environmental challenges reshaping the landscape. This conference will explore how industry leaders\, policymakers\, and experts can navigate shocks and uncertainties while ensuring resilience in global supply chains. Discussions will cover risk management strategies\, the impact of shifting energy and climate policies\, and the evolving role of technology and finance in commodity markets. Together\, we aim to shed light on how to turn turbulence into strategic advantage for the future of trading. \nIn this setting\, gaining fresh insights and building strong professional connections is more important than ever. Moderated by S&P Global\, the discussions will provide independent\, high-level perspectives from experts at the center of global markets. Beyond the exclusive panel\, the evening offers a valuable opportunity to meet peers\, share experiences\, and expand your professional network in a welcoming setting. Join us for one of the commodity trading community’s key gatherings of the year.
URL:https://cta-association.com/event/cta-annual-conference-2025/
LOCATION:Mandarin Oriental\, Geneva\, Quai Turrettini 1\, Geneva\, 1201\, Switzerland
CATEGORIES:CONFERENCES
ORGANIZER;CN="CTA Association":MAILTO:info@cta-association.com
END:VEVENT
END:VCALENDAR