BEGIN:VCALENDAR
VERSION:2.0
PRODID:-//CTA Association - ECPv6.15.20//NONSGML v1.0//EN
CALSCALE:GREGORIAN
METHOD:PUBLISH
X-ORIGINAL-URL:https://cta-association.com
X-WR-CALDESC:Events for CTA Association
REFRESH-INTERVAL;VALUE=DURATION:PT1H
X-Robots-Tag:noindex
X-PUBLISHED-TTL:PT1H
BEGIN:VTIMEZONE
TZID:Europe/Zurich
BEGIN:DAYLIGHT
TZOFFSETFROM:+0100
TZOFFSETTO:+0200
TZNAME:CEST
DTSTART:20240331T010000
END:DAYLIGHT
BEGIN:STANDARD
TZOFFSETFROM:+0200
TZOFFSETTO:+0100
TZNAME:CET
DTSTART:20241027T010000
END:STANDARD
BEGIN:DAYLIGHT
TZOFFSETFROM:+0100
TZOFFSETTO:+0200
TZNAME:CEST
DTSTART:20250330T010000
END:DAYLIGHT
BEGIN:STANDARD
TZOFFSETFROM:+0200
TZOFFSETTO:+0100
TZNAME:CET
DTSTART:20251026T010000
END:STANDARD
BEGIN:DAYLIGHT
TZOFFSETFROM:+0100
TZOFFSETTO:+0200
TZNAME:CEST
DTSTART:20260329T010000
END:DAYLIGHT
BEGIN:STANDARD
TZOFFSETFROM:+0200
TZOFFSETTO:+0100
TZNAME:CET
DTSTART:20261025T010000
END:STANDARD
END:VTIMEZONE
BEGIN:VEVENT
DTSTART;TZID=Europe/Zurich:20250924T123000
DTEND;TZID=Europe/Zurich:20250924T143000
DTSTAMP:20260420T204853
CREATED:20250916T072247Z
LAST-MODIFIED:20250922T082036Z
UID:1740-1758717000-1758724200@cta-association.com
SUMMARY:CTA Executive Lunch - Le Dorian 24.09.25
DESCRIPTION:Register here\n			\n			\n				\n				\n				\n				\n			\n				\n				\n				\n				\n				\n				\n				\n				\n				\n				\n				We are delighted to invite you to our next Executive Lunch taking place at 12h30 on Wednesday\, September 24\, 2025 at Le Dorian in Geneva.The lunch is offered to all selected participants. Number of seats is limited to 5 people. \nThis event is strictly restricted to Alumni of the Master\, DAS and CAS in Commodity Trading. \nOur guest will be Simeon Lachev\, Managing Director of Weromett SA\, bringing nearly twenty years of expertise in commodity trading\, legal advisory\, insurance\, and risk management. Before leading Weromett\, he held senior positions at Metinvest International and Oryx Energies. Weromett SA\, headquartered in Geneva\, is a steel trading company active in finished\, semi-finished\, and raw steel products\, complemented by services in logistics\, financing\, and insurance. \nHe looks forward to sharing insights from his professional journey with the Alumni of the Commodity Trading Association at their next Executive Lunch. \nParticipation: the Executive Lunches are offered by SB Fiduciaire Sàrl.Please apply through the registration link. Our team will inform the selected participants.
URL:https://cta-association.com/event/cta-executive-lunch-le-dorian-24-09-25/
LOCATION:Le Dorian\, Pl. René-Payot 1\, Geneva\, GE\, 1204\, Switzerland
CATEGORIES:CONFERENCES
END:VEVENT
END:VCALENDAR